BEGIN:VCALENDAR
VERSION:2.0
PRODID:spatie/icalendar-generator
DESCRIPTION:Events from BABAMNA
X-WR-CALDESC:Events from BABAMNA
REFRESH-INTERVAL;VALUE=DURATION:PT1440M
X-PUBLISHED-TTL:PT1440M
BEGIN:VTIMEZONE
TZID:America/New_York
BEGIN:DAYLIGHT
DTSTART:20260308T020000Z
TZOFFSETFROM:-0500
TZOFFSETTO:-0400
END:DAYLIGHT
BEGIN:STANDARD
DTSTART:20261101T020000Z
TZOFFSETFROM:-0400
TZOFFSETTO:-0500
END:STANDARD
END:VTIMEZONE
BEGIN:VTIMEZONE
TZID:UTC
BEGIN:STANDARD
DTSTART:20250727T141058Z
TZOFFSETFROM:+0000
TZOFFSETTO:+0000
END:STANDARD
END:VTIMEZONE
BEGIN:VEVENT
UID:18-5
DTSTAMP:20260423T141058Z
SUMMARY:GRAND CONGRES BABAMNA 2026
LOCATION:QUEBEC - CANADA
ORGANIZER;CN=Blondel Mahi:MAILTO:blondel2@live.fr
DTSTART;TZID=America/New_York;VALUE=DATE:20260904
DTEND;TZID=America/New_York;VALUE=DATE:20260907
X-ALT-DESC;FMTTYPE=TEXT/HTML:<p>The Grand Cultural Congress of Quebec invit
 es you to an exceptional celebration of artistic diversity\, living tradit
 ions\, and the creativity that shapes our collective identity.</p>\n
CATEGORIES:Culture,  General
URL;VALUE=URI:https://babamna.org/mc-events/grand-congres-babamna-2026/
METHOD:PUBLISH
END:VEVENT
END:VCALENDAR