BEGIN:VCALENDAR
VERSION:2.0
PRODID:spatie/icalendar-generator
DESCRIPTION:Events from BABAMNA
X-WR-CALDESC:Events from BABAMNA
REFRESH-INTERVAL;VALUE=DURATION:PT1440M
X-PUBLISHED-TTL:PT1440M
BEGIN:VTIMEZONE
TZID:America/New_York
BEGIN:DAYLIGHT
DTSTART:20260308T020000Z
TZOFFSETFROM:-0500
TZOFFSETTO:-0400
END:DAYLIGHT
BEGIN:STANDARD
DTSTART:20261101T020000Z
TZOFFSETFROM:-0400
TZOFFSETTO:-0500
END:STANDARD
END:VTIMEZONE
BEGIN:VTIMEZONE
TZID:UTC
BEGIN:STANDARD
DTSTART:20250727T173306Z
TZOFFSETFROM:+0000
TZOFFSETTO:+0000
END:STANDARD
END:VTIMEZONE
BEGIN:VEVENT
UID:11-3
DTSTAMP:20260423T173306Z
SUMMARY:BABAMNA Monthly General Assembly
LOCATION:Online
ORGANIZER;CN=Blondel Mahi:MAILTO:blondel2@live.fr
RRULE:FREQ=MONTHLY;BYDAY=2SU;UNTIL=20261213T000000Z
DTSTART;TZID=America/New_York:20260809T190000
DTEND;TZID=America/New_York:20260809T210000
X-ALT-DESC;FMTTYPE=TEXT/HTML:We have a zoom or teams meeting each 2nd Sunda
 y of the month: https://teams.microsoft.com/l/meetup-join/19%3ameeting_ZTE
 zODZkOWEtZmFhMC00YmMxLThiMzgtNjVhNzMwODQ0OTNi%40thread.v2/0?context=%7b%22
 Tid%22%3a%225b973f99-77df-4beb-b27d-aa0c70b8482c%22%2c%22Oid%22%3a%22ef709
 66b-3a35-40d7-857d-eb169b4d2b1e%22%7d &amp;nbsp\;
CATEGORIES:General
URL;VALUE=URI:https://babamna.org/mc-events/babamna-monthly-general-assembl
 y/?mc_id=11
METHOD:PUBLISH
END:VEVENT
END:VCALENDAR