BEGIN:VCALENDAR
VERSION:2.0
PRODID:spatie/icalendar-generator
DESCRIPTION:Évènements de BABAMNA
X-WR-CALDESC:Évènements de BABAMNA
REFRESH-INTERVAL;VALUE=DURATION:PT1440M
X-PUBLISHED-TTL:PT1440M
BEGIN:VTIMEZONE
TZID:America/New_York
BEGIN:STANDARD
DTSTART:20251102T020000Z
TZOFFSETFROM:-0400
TZOFFSETTO:-0500
END:STANDARD
BEGIN:DAYLIGHT
DTSTART:20260308T020000Z
TZOFFSETFROM:-0500
TZOFFSETTO:-0400
END:DAYLIGHT
END:VTIMEZONE
BEGIN:VTIMEZONE
TZID:UTC
BEGIN:STANDARD
DTSTART:20250727T175557Z
TZOFFSETFROM:+0000
TZOFFSETTO:+0000
END:STANDARD
END:VTIMEZONE
BEGIN:VEVENT
UID:17-6
DTSTAMP:20260423T175557Z
SUMMARY:International Conference on the true meaning of the Mbog within the
  Bassa Bati Mpoo people
LOCATION:
ORGANIZER;CN=Communication Team:MAILTO:contact@babam-na.org
DTSTART;TZID=America/New_York:20260426T160000
DTEND;TZID=America/New_York:20260426T180000
X-ALT-DESC;FMTTYPE=TEXT/HTML:<p>The conference will focus on the original m
 eaning of the Mbog which define the leadership structure of the Bassa Bati
  Mpoo people of Cameroon.</p>\n
CATEGORIES:General,  Culture
URL;VALUE=URI:https://babamna.org/fr/mc-events/international-conference-on-
 the-true-meaning-of-the-mbog-within-the-bassa-bati-mpoo-people/
METHOD:PUBLISH
END:VEVENT
END:VCALENDAR