BEGIN:VCALENDAR
VERSION:2.0
PRODID:spatie/icalendar-generator
DESCRIPTION:Évènements de BABAMNA
X-WR-CALDESC:Évènements de BABAMNA
REFRESH-INTERVAL;VALUE=DURATION:PT1440M
X-PUBLISHED-TTL:PT1440M
BEGIN:VTIMEZONE
TZID:America/New_York
BEGIN:STANDARD
DTSTART:20251102T020000Z
TZOFFSETFROM:-0400
TZOFFSETTO:-0500
END:STANDARD
BEGIN:DAYLIGHT
DTSTART:20260308T020000Z
TZOFFSETFROM:-0500
TZOFFSETTO:-0400
END:DAYLIGHT
END:VTIMEZONE
BEGIN:VTIMEZONE
TZID:UTC
BEGIN:STANDARD
DTSTART:20250727T200421Z
TZOFFSETFROM:+0000
TZOFFSETTO:+0000
END:STANDARD
END:VTIMEZONE
BEGIN:VEVENT
UID:15-4
DTSTAMP:20260423T200421Z
SUMMARY:Virtual Global Conference
LOCATION:Online
ORGANIZER;CN=Blondel Mahi:MAILTO:blondel2@live.fr
DTSTART;TZID=America/New_York:20251214T150000
DTEND;TZID=America/New_York:20251214T180000
X-ALT-DESC;FMTTYPE=TEXT/HTML:Please call this number below @ 3Pm (New York)
  and 21h (Cameroun) +13475662806  Id: 71717368 https://teams.microsoft.co
 m/l/meetup-join/19%3ameeting_ZTEzODZkOWEtZmFhMC00YmMxLThiMzgtNjVhNzMwODQ0O
 TNi%40thread.v2/0?context=%7b%22Tid%22%3a%225b973f99-77df-4beb-b27d-aa0c70
 b8482c%22%2c%22Oid%22%3a%22ef70966b-3a35-40d7-857d-eb169b4d2b1e%22%7d
CATEGORIES:General
URL;VALUE=URI:https://babamna.org/fr/mc-events/virtual-global-conference/
METHOD:PUBLISH
END:VEVENT
END:VCALENDAR